Workbook

Sheet 1.(피해자 통보 동의시)사건통보서 (공통서식)
A2: 성희롱･성폭력 사건발생사실 통보서
C3: 작성 기관명 | D3: 000 학교
C4: 담당자(직급) | D4: 000 부장
C5: 연락처 | D5: 000-000-0000
B6: □ 사건 개요 | F6: <작성방법 참고>
B7: 구분 | C7: 내 용 | D7: 응답값 | F7: * 콤보사항 중 설명이 필요할 경우, 옆칸 공란에 별도 기재 가능
B8: 시점 | C8: 사건 발생일(최초 발생) | D8: 날짜 기재 (2025-00-00) 또는 기간 기재 (2025-00-00 ~ 2025-00-00) 또는 특정 불가 | F8: 년월일기재
C9: 사건 인지일 ※ 피해자로부터 사건신고를 접수하고 기관장에게 이를 보고한 날 | D9: 2020-00-00 | F9: 년월일기재
C10: 사건 통보일 | F10: 년월일기재 (공문 제출일, 2025-00-00)
B11: 사건 유형 | C11: 사건발생기관명 | D11: ㅇㅇ고등학교(가해), ㅇㅇ중학교(피해) | F11: 지역명, 학교명 기재 *피‧가해자 소속이 다를 경우 가해자 소속학교에서 제출하되, 각 학교를 가해자 소속학교, 피해자 소속학교 순으로 기재함. *피‧가해자 소속 기관명 작성란이므로, 사건발생장소가 외부라고 하더라도 외부로 기재하지 않도록 유의.
C12: 사건발생기관 유형 | F12: 콤보선택
C13: 기관의 장에 의한 사건 여부 | D13: 해당없음 (재발방지대책 1개월 이내 제출 의무 기관장 사건은 중앙행정기관, 지자체의 장에 한정)
C14: 행위자 다수 여부 | F14: 콤보선택
C15: 피해자 다수 여부 | F15: 콤보선택
C16: 행위자와 피해자 관계 | D16: 기관장-하급자, 상급자-하급자, 하급자-상급자, 동료, 교사-학생, 학생-교사, 학생-학생, 기타( ) | F16: 예시중 해당 사항만 남기기
C17: 행위자와 피해자 성별 | D17: 남성-여성,여성-남성, 남성-남성, 여성-여성, 기타( ) | F17: 예시중 해당 사항만 남기기
C18: 위계·위력 등에 의한 성폭력 사건일 경우, 수사기관 신고 여부 | F18: 콤보선택 미성년자 성폭력 사안의 경우 신고 필수
B19: 보호 조치 사항 | C19: 피해자가 보호조치를 원하는지 여부 | F19: 콤보선택
C20: 행위자와 분리 여부 (예시) 행위자 업무 공간 이동, 행위자 전보, 피해자 휴가 등 | F20: 콤보선택
D21: 행위자 업무공간 이동□ 행위자 전보□ 피해자 휴가□ 기타□ ( ) | F21: 예시중 해당 사항만 남기기
C22: 피해자 회복을 위한 지원 여부 (예시) 심리상담, 의료지원, 법률지원, 외부기관 연계 등 | F22: 콤보선택
D23: 심리상담□ 의료지원□ 법률지원□ 외부기관 연계□ 기타□ ( ) | F23: 예시중 해당 사항만 남기기
B24: 주요 내용 (사건 신고‧ 접수 개요 등) | C24: 육하원칙(누가, 언제, 어디서, 무엇을, 어떻게, 왜)에 따라 기재하되 개인정보 보호를 위해 행위자･피해자 신상정보(이름, 나이 등)는 익명으로 처리하여 300자 미만으로 기재 | F24: 자율 기술
B25: 기타 | C25: 외부기관(수사기관, 국가인권위원회 등 외부기관) 사건처리상황, 언론보도사항, 2차 피해 관련 사항 등 100자 미만으로 기재하여 작성(익명처리 동일) | F25: 자율 기술

Sheet 2.재발방지대책 (공통서식)
A2: 성희롱･성폭력 사건 재발방지대책
D3: 작성 기관명 | E3: ='1.(피해자 통보 동의시)사건통보서 (공통서식)'!D3 -> 000 학교
D4: 담당자(직급) | E4: ='1.(피해자 통보 동의시)사건통보서 (공통서식)'!D4 -> 000 부장
D5: 연락처 | E5: ='1.(피해자 통보 동의시)사건통보서 (공통서식)'!D5 -> 000-000-0000
B6: □ 사건 개요 | G6: <작성방법 참고>
B7: 구분 | C7: 내 용 | D7: 응답값 (사건 통보시 D열 작성) | E7: 응답값 (사건 미통보시 E열 작성) | G7: 통보서와 중복된 항목은 자동 입력되므로, 나머지만 기재 / 재발방지대책만 제출할 경우 전체 입력 필요
B8: 사건통보 여부 | C8: ◦여성가족부로 통보된 사건 여부 | D8: 통보 | E8: 미통보 | G8: * 콤보사항 중 설명이 필요할 경우, 옆칸 공란에 별도 기재 가능
C9: ◦통보하지 않았을 경우 해당 사유 | E9: 피해자 의사, 착오, 누락, 기타 ( ) | G9: 예시중 해당 사항만 남기기
B10: 시점 | C10: ◦사건 발생일(최초 발생) | D10: ='1.(피해자 통보 동의시)사건통보서 (공통서식)'!$D8 -> 날짜 기재 (2025-00-00) 또는 기간 기재 (2025-00-00 ~ 2025-00-00) 또는 특정 불가 | E10: 날짜 기재 (2025-00-00) 또는 기간 기재 (2025-00-00 ~ 2025-00-00) 또는 특정 불가 중 선택 | G10: 년월일 기재(통보서 작성시 자동입력)
C11: ◦사건 인지일 ※ 피해자로부터 사건신고를 접수하고 기관장에게 이를 보고한 날 | D11: ='1.(피해자 통보 동의시)사건통보서 (공통서식)'!$D$9 -> 2020-00-00 | G11: 년월일기재 (통보서 작성시 자동입력)
C12: ◦재발방지대책 제출일 ※ 인지일로부터 3개월 이내 | G12: 년월일 기재 (공문 제출일, 2025-00-00)
B13: 사건 유형 | C13: ◦사건발생기관명 | D13: ='1.(피해자 통보 동의시)사건통보서 (공통서식)'!$D11 -> ㅇㅇ고등학교(가해), ㅇㅇ중학교(피해) | E13: ㅇㅇㅇ 초등학교, ㅇㅇ유치원 또는 ㅇㅇ학교 (가해), ㅇㅇ학교 (피해) | G13: 지역명, 학교명 기재 *피‧가해자 소속이 다를 경우 가해자 소속학교에서 제출하되, 각 학교를 가해자 소속학교, 피해자 소속학교 순으로 기재함. *피‧가해자 소속 기관명 작성란이므로, 사건발생장소가 외부라고 하더라도 외부로 기재하지 않도록 유의.
C14: ◦사건발생기관 유형 | D14: ='1.(피해자 통보 동의시)사건통보서 (공통서식)'!$D12 -> 0 | G14: 콤보선택 (통보서 작성시 자동 입력)
C15: ◦기관의 장에 의한 사건 여부 | D15: ='1.(피해자 통보 동의시)사건통보서 (공통서식)'!$D13 -> 해당없음 (재발방지대책 1개월 이내 제출 의무 기관장 사건은 중앙행정기관, 지자체의 장에 한정) | E15: 해당없음 (재발방지대책 1개월 이내 제출 의무 기관장 사건은 중앙행정기관, 지자체의 장에 한정) | G15: 콤보선택 (통보서 작성시 자동 입력)
C16: ◦행위자 다수 여부 | D16: ='1.(피해자 통보 동의시)사건통보서 (공통서식)'!$D14 -> 0 | G16: 재발방지대책 1개월 이내 제출 의무 기관장 사건은 중앙행정기관, 지자체의 장에 한정
C17: ◦피해자 다수 여부 | D17: ='1.(피해자 통보 동의시)사건통보서 (공통서식)'!$D15 -> 0 | G17: 콤보선택 (통보서 작성시 자동 입력)
C18: ◦행위자와 피해자 관계 | D18: ='1.(피해자 통보 동의시)사건통보서 (공통서식)'!$D16 -> 기관장-하급자, 상급자-하급자, 하급자-상급자, 동료, 교사-학생, 학생-교사, 학생-학생, 기타( ) | E18: 기관장-하급자, 상급자-하급자, 하급자-상급자, 동료, 교사-학생, 학생-교사, 학생-학생, 기타( ) | G18: 예시중 해당 사항만 남기기 (통보서 작성시 자동 입력)
C19: ◦행위자와 피해자 성별 | D19: ='1.(피해자 통보 동의시)사건통보서 (공통서식)'!$D17 -> 남성-여성,여성-남성, 남성-남성, 여성-여성, 기타( ) | E19: 여성-남성, 남성-남성, 여성-여성, 기타( ) | G19: 예시중 해당 사항만 남기기 (통보서 작성시 자동 입력)
C20: ◦위계·위력 등에 의한 성폭력 사건일 경우, 수사기관 신고 여부 | G20: 콤보선택
B21: □ 사건 처리경과 및 조치사항
B22: 구분 | C22: 내 용 | D22: 응답값 | G22: 통보여부 관계없이 작성
B23: 사건 유형상담, 신고 및 조사 | C23: ◦사건 조사 신청서 접수일 | D23: 날짜 기재 (2025-00-00) | G23: 년월일기재
C24: ◦사건 조사 기간(신청서 접수일부터) | G24: 콤보선택
C25: ◦사건 조사 방식 | G25: 콤보선택
C26: ◦조사 진행 상황 피해자 고지 여부 | G26: 콤보선택
C27: ◦사건 수사기관 수사 여부 | G27: 콤보선택
B28: 사건 심의 ※학폭위·교권위를 개최한 경우 해당내용으로 작성요망 | C28: ◦심의위원회 개최 여부 | D28: 개최□ 고충심의위원회 개최, 학교폭력대책심의위원회 또는 교권보호위원회 □개최 미개최□(사유 기재) | G28: 예시 중 해당사항만 남기기
C29: ◦심의위원회 외부위원 참여 여부 | G29: 콤보선택
C30: ◦심의위원회 결과 성희롱·성폭력 해당 여부 | D30: 인정□ 불인정□ 타비위행위로 판단□ 기타 □ | G30: 콤보선택
C31: ◦심의위원회 결과 2차 피해 해당 여부 | D31: 인정□ 불인정□ 해당없음□ | G31: 콤보선택
C32: ◦이외 의결 내용(복수 체크 가능) | D32: 예시) 피해자 보호 조치 권고 □ - 공간분리□, 유급휴가 □배치전환 □ 기타 □ (기재) 해당없음 □ 행위자 조치 사항 권고 □ - 징계 □ 근무장소 변경 □ 행위자 인식개선 교육 □ 기타 □ (기재) 해당없음 □ 2차 피해 예방 또는 중지 □ (구체적 사항 기재) 재발방지를 위한 기타 조치 사항□ (구체적 사항 기재) | G32: 예시 중 해당사항만 남기기
C33: ◦심의결과 당사자(피해자, 행위자) 통지 여부 | G33: 콤보선택
B34: 후속조치 | C34: ◦피해자 조치 사항 (복수 체크 가능) | D34: 행위자와 공간분리 □ 유·무급휴가□ 심리상담 □ 상담/의료/법률 지원기관 연계 □ 해당없음 □ | G34: 예시 중 해당사항만 남기기
C35: ◦행위자 조치사항 (복수 체크 가능) | D35: 징계 □ 부서/근무장소 변경 □ 업무배제/대기발령/직위해제 □ 인식개선 교육 □ 상급기관에 행위자 인사조치 요청 □ 해당없음 □ | G35: 예시 중 해당사항만 남기기
C36: ◦2차 피해 방지 등 기타 조치사항 | D36: (구체적 사항 기재) 예) 전직원 폭력 예방교육 실시 2차 피해 방지 홍보 강화 | G36: 자율 기술
B37: □ 재발방지 강화 방안
B38: 구분 | C38: 내 용 | D38: 응답값 (최근 1년 기준 현황) | E38: 응답값 (사건 계기 개선 계획) | G38: 통보여부 관계없이 작성
B39: 성희롱, 성폭력 예방교육 | C39: ◦연간 기본계획 수립 | D39: 수립□ (날짜 기재) 미수립□ | E39: 개선방안 있음□ (계획 별첨) 없음□ (세부 기재) | G39: 응답값(최근 1년 기준 현황) 기관에서 폭력예방교육시스템에 입력한 사항과 동일하게 남기기 응답값(사건 계기 개선 계획) 개선방안 있음, 없음에 대해 콤보를 선택하고, 개선방안이 있을 경우, 하단에 구체적으로 기재 및 관련 자료 별첨 (이하 동일)
E40: 개선방안 있을 경우 세부 기재 및 별첨
C41: ◦예방교육 실시/횟수 | D41: 실시□ (몇 회) 미실시 | E41: 개선방안 있음□ (계획 별첨) 없음□ (세부 기재)
...

Sheet 3.관리대장(앞 시트와 연동)
A1: 1. 2번 sheet 작성시 관리 대장에 자동 기입되므로, 변경 금지 ★ 인지일이 입력되면 자동으로 재발방지대책 제출 기한이 산정(주황색 셀) 되므로 참고하여 제출 기한을 준수 요망 (기한 초과시 시정명령 대상이 됨을 유의) ★ 피해자 행위자가 속한 기관이 다를 경우, 행위자가 속한 기관에서 사건통보 및 재발방지대책 제출 (기관간 협의를 통해 통보 동의여부 의사 및 조치사항 확인)
B3: <통보한 사건일 경우>
A4: No | B4: 유형 | C4: 발생기관명 | D4: 사건발생일 또는 발생기간 | E4: 사건인지일 | F4: 사건통보서 제출일 | G4: 재발방지대책 제출일 | H4: 재발방지대책 제출기한 마감일 (자동산정) | I4: 인지일부터 재발방지대책 제출일까지 기간 (자동산정) | J4: 재발방지대책 제출기한 d-day (오늘 대비 자동산정) | K4: 행위자다수여부 | L4: 피해자다수여부 | M4: 관계 | N4: 성별 (행위자- 피해자) | O4: 주요내용 (통보서 내용 그대로 기입, 육하원칙 준수) | P4: 사건 조사 기간 | Q4: 사건 조사 방식 | R4: 사건 수사기관 수사 여부 | S4: 심의위원회 개최 여부 | T4: 심의 결과 성희롱·성폭력 해당 여부 | U4: 심의 결과 2차피해 해당 여부 | V4: 후속조치 - 피해자 조치사항 | W4: 후속조치- 행위자 조치 사항 | X4: 후속조치 - 2차 피해방지 등 기타
A5: 1 | B5: ='2.재발방지대책 (공통서식)'!$D$14 -> 0 | C5: ='2.재발방지대책 (공통서식)'!$D$13 -> ㅇㅇ고등학교(가해), ㅇㅇ중학교(피해) | D5: ='2.재발방지대책 (공통서식)'!$D$10 -> 날짜 기재 (2025-00-00) 또는 기간 기재 (2025-00-00 ~ 2025-00-00) 또는 특정 불가 | E5: ='2.재발방지대책 (공통서식)'!$D$11 -> 2020-00-00 | F5: ='1.(피해자 통보 동의시)사건통보서 (공통서식)'!$D$10 -> 0 | G5: =IF(ISBLANK('2.재발방지대책 (공통서식)'!$D12),"",'2.재발방지대책 (공통서식)'!$D12) | H5: =EDATE(E5,3) -> #VALUE! | I5: =G5-E5 -> #VALUE! | J5: =IF(G5="",(H5-TODAY( )),"완료") -> #VALUE! | K5: ='2.재발방지대책 (공통서식)'!$D$16 -> 0 | L5: ='2.재발방지대책 (공통서식)'!$D$17 -> 0 | M5: ='2.재발방지대책 (공통서식)'!$D$18 -> 기관장-하급자, 상급자-하급자, 하급자-상급자, 동료, 교사-학생, 학생-교사, 학생-학생, 기타( ) | N5: ='2.재발방지대책 (공통서식)'!$D$19 -> 남성-여성,여성-남성, 남성-남성, 여성-여성, 기타( ) | O5: ='1.(피해자 통보 동의시)사건통보서 (공통서식)'!$D$24 -> 0 | P5: ='2.재발방지대책 (공통서식)'!$D$24 -> 0 | Q5: ='2.재발방지대책 (공통서식)'!$D$25 -> 0 | R5: ='2.재발방지대책 (공통서식)'!$D$27 -> 0 | S5: ='2.재발방지대책 (공통서식)'!$D$28 -> 개최□ 고충심의위원회 개최, 학교폭력대책심의위원회 또는 교권보호위원회 □개최 미개최□(사유 기재) | T5: ='2.재발방지대책 (공통서식)'!$D$30 -> 인정□ 불인정□ 타비위행위로 판단□ 기타 □ | U5: ='2.재발방지대책 (공통서식)'!$D$31 -> 인정□ 불인정□ 해당없음□ | V5: ='2.재발방지대책 (공통서식)'!$D$34 -> 행위자와 공간분리 □ 유·무급휴가□ 심리상담 □ 상담/의료/법률 지원기관 연계 □ 해당없음 □ | W5: ='2.재발방지대책 (공통서식)'!$D$35 -> 징계 □ 부서/근무장소 변경 □ 업무배제/대기발령/직위해제 □ 인식개선 교육 □ 상급기관에 행위자 인사조치 요청 □ 해당없음 □ | X5: ='2.재발방지대책 (공통서식)'!$D$36 -> (구체적 사항 기재) 예) 전직원 폭력 예방교육 실시 2차 피해 방지 홍보 강화
B9: <통보하지 않은 사건일 경우>
A11: No | B11: 유형 | C11: 발생기관명 | D11: 사건발생일 또는 발생기간 | E11: 사건인지일 | F11: 사건통보서 제출일 | G11: 재발방지대책 제출일 | H11: 재발방지대책 제출기한 마감일 (자동산정) | I11: 인지일부터 재발방지대책 제출일까지 기간 (자동산정) | J11: 재발방지대책 제출기한 d-day (오늘 대비 자동산정) | K11: 행위자다수여부 | L11: 피해자다수여부 | M11: 관계 | N11: 성별 (행위자- 피해자) | O11: 주요내용 (통보서 내용 그대로 기입, 육하원칙 준수) | P11: 사건 조사 기간 | Q11: 사건 조사 방식 | R11: 사건 수사기관 수사 여부 | S11: 심의위원회 개최 여부 | T11: 심의 결과 성희롱·성폭력 해당 여부 | U11: 심의 결과 2차피해 해당 여부 | V11: 후속조치 - 피해자 조치사항 | W11: 후속조치- 행위자 조치 사항 | X11: 후속조치 - 2차 피해방지 등 기타
A12: 1 | B12: ='2.재발방지대책 (공통서식)'!$E$14 -> 0 | C12: ='2.재발방지대책 (공통서식)'!$E$13 -> ㅇㅇㅇ 초등학교, ㅇㅇ유치원 또는 ㅇㅇ학교 (가해), ㅇㅇ학교 (피해) | D12: ='2.재발방지대책 (공통서식)'!$E$10 -> 날짜 기재 (2025-00-00) 또는 기간 기재 (2025-00-00 ~ 2025-00-00) 또는 특정 불가 중 선택 | E12: ='2.재발방지대책 (공통서식)'!$E$11 -> 0 | F12: 해당없음 | G12: =IF(ISBLANK('2.재발방지대책 (공통서식)'!$E12),"",'2.재발방지대책 (공통서식)'!$E12) | H12: =EDATE(E12,3) -> 91 | I12: =G12-E12 -> #VALUE! | J12: =IF(G12="",(H12-TODAY( )),"완료") -> -45617 | K12: ='2.재발방지대책 (공통서식)'!$E$16 -> 0 | L12: ='2.재발방지대책 (공통서식)'!$E$17 -> 0 | M12: ='2.재발방지대책 (공통서식)'!$E$18 -> 기관장-하급자, 상급자-하급자, 하급자-상급자, 동료, 교사-학생, 학생-교사, 학생-학생, 기타( ) | N12: ='2.재발방지대책 (공통서식)'!$E$19 -> 여성-남성, 남성-남성, 여성-여성, 기타( ) | O12: 해당없음 | P12: ='2.재발방지대책 (공통서식)'!$D$24 -> 0 | Q12: ='2.재발방지대책 (공통서식)'!$D$25 -> 0 | R12: ='2.재발방지대책 (공통서식)'!$D$27 -> 0 | S12: ='2.재발방지대책 (공통서식)'!$D$28 -> 개최□ 고충심의위원회 개최, 학교폭력대책심의위원회 또는 교권보호위원회 □개최 미개최□(사유 기재) | T12: ='2.재발방지대책 (공통서식)'!$D$30 -> 인정□ 불인정□ 타비위행위로 판단□ 기타 □ | U12: ='2.재발방지대책 (공통서식)'!$D$31 -> 인정□ 불인정□ 해당없음□ | V12: ='2.재발방지대책 (공통서식)'!$D$34 -> 행위자와 공간분리 □ 유·무급휴가□ 심리상담 □ 상담/의료/법률 지원기관 연계 □ 해당없음 □ | W12: ='2.재발방지대책 (공통서식)'!$D$35 -> 징계 □ 부서/근무장소 변경 □ 업무배제/대기발령/직위해제 □ 인식개선 교육 □ 상급기관에 행위자 인사조치 요청 □ 해당없음 □ | X12: ='2.재발방지대책 (공통서식)'!$D$36 -> (구체적 사항 기재) 예) 전직원 폭력 예방교육 실시 2차 피해 방지 홍보 강화
